BEGIN:VCALENDAR
VERSION:2.0
PRODID:Centro de Estudios de Derecho Ambiental de Tarragona (CEDAT) | Unive
 rsitat Rovira i Virgili
BEGIN:VEVENT
UID:69eb3c8b72675
DTSTART:20260630T080000Z
SEQUENCE:0
TRANSP:OPAQUE
DTEND:20260629T220000Z
URL:http://www.cedat.urv.cat/es/agenda-cast/11955/congres-internacional-sob
 re-les-slapp-i-la-defensa-dels-drets-humans
LOCATION:Sala de Graus\, Campus Catalunya\, RTarragona
SUMMARY:Tarragona acogerá un congreso internacional sobre las SLAPP y la d
 efensa de los derechos humanos.
CLASS:PUBLIC
DESCRIPTION:La Universitat Rovira i Virgili acogerá el próximo 30 de juni
 o de 2026 el Congreso Internacional &quot\;SLAPP\, Activismo y Derechos Hu
 manos: Retos Jurídicos y Sociales en la Defensa del Medio Ambiente&quot\;
 \, que tendrá lugar en la Sala de Grados del Campus Catalunya\, en Tarrag
 ona.\n\nEl congreso tiene como objetivo analizar el fenómeno creciente de
  las demandas estratégicas contra la participación pública\, conocidas 
 como SLAPP (Strategic Lawsuits Against Public Participation)\, una prácti
 ca que\, mediante litigios abusivos\, busca silenciar e intimidar a person
 as defensoras de los derechos humanos\, especialmente en el ámbito de la 
 protección del medio ambiente. Este tipo de acciones judiciales se ha con
 vertido en un reto relevante para la libertad de expresión y la participa
 ción democrática\, tanto a escala estatal como europea.\n\nToda la infor
 mación en la web del CEDAT&nbsp\;cedat.urv.cat
DTSTAMP:20260424T094859Z
END:VEVENT
END:VCALENDAR